BEGIN:VCALENDAR
VERSION:2.0
PRODID:-// - ECPv6.15.20//NONSGML v1.0//EN
CALSCALE:GREGORIAN
METHOD:PUBLISH
X-ORIGINAL-URL:https://looseendsofficial.com
X-WR-CALDESC:Events for 
REFRESH-INTERVAL;VALUE=DURATION:PT1H
X-Robots-Tag:noindex
X-PUBLISHED-TTL:PT1H
BEGIN:VTIMEZONE
TZID:UTC
BEGIN:STANDARD
TZOFFSETFROM:+0000
TZOFFSETTO:+0000
TZNAME:UTC
DTSTART:20250101T000000
END:STANDARD
END:VTIMEZONE
BEGIN:VEVENT
DTSTART;VALUE=DATE:20260606
DTEND;VALUE=DATE:20260607
DTSTAMP:20260421T122719
CREATED:20260105T165727Z
LAST-MODIFIED:20260105T165727Z
UID:3195-1780704000-1780790399@looseendsofficial.com
SUMMARY:Soultasia Concert
DESCRIPTION:
URL:https://looseendsofficial.com/event/soultasia-concert
LOCATION:Promenade Park\, Park Drive\, Maldon\, CM9 5JQ\, United Kingdom
END:VEVENT
BEGIN:VEVENT
DTSTART;TZID=UTC:20260611T190000
DTEND;TZID=UTC:20260611T233000
DTSTAMP:20260421T122719
CREATED:20260126T143415Z
LAST-MODIFIED:20260216T111034Z
UID:3219-1781204400-1781220600@looseendsofficial.com
SUMMARY:Jam House\, Birmingham
DESCRIPTION:
URL:https://looseendsofficial.com/event/jam-house-birmingham-2
LOCATION:Jam House Birmigham\, 3-5 St Paul's Square\, Birmingham\, B3 1QU\, United Kingdom
END:VEVENT
BEGIN:VEVENT
DTSTART;TZID=UTC:20260612T190000
DTEND;TZID=UTC:20260612T230000
DTSTAMP:20260421T122719
CREATED:20260105T165936Z
LAST-MODIFIED:20260105T165936Z
UID:3198-1781290800-1781305200@looseendsofficial.com
SUMMARY:Jazz Cafe\, Camden
DESCRIPTION:
URL:https://looseendsofficial.com/event/jazz-cafe-camden-3
LOCATION:Jazz Cafe – Camden\, 5 Parkway\, London\, NW1 7PG\, United Kingdom
END:VEVENT
BEGIN:VEVENT
DTSTART;TZID=UTC:20260613T190000
DTEND;TZID=UTC:20260613T230000
DTSTAMP:20260421T122719
CREATED:20260105T170033Z
LAST-MODIFIED:20260105T170033Z
UID:3201-1781377200-1781391600@looseendsofficial.com
SUMMARY:Jazz Cafe\, Camden
DESCRIPTION:
URL:https://looseendsofficial.com/event/jazz-cafe-camden-4
LOCATION:Jazz Cafe – Camden\, 5 Parkway\, London\, NW1 7PG\, United Kingdom
END:VEVENT
END:VCALENDAR