BEGIN:VCALENDAR
VERSION:2.0
PRODID:-// - ECPv6.15.20//NONSGML v1.0//EN
CALSCALE:GREGORIAN
METHOD:PUBLISH
X-ORIGINAL-URL:https://looseendsofficial.com
X-WR-CALDESC:Events for 
REFRESH-INTERVAL;VALUE=DURATION:PT1H
X-Robots-Tag:noindex
X-PUBLISHED-TTL:PT1H
BEGIN:VTIMEZONE
TZID:UTC
BEGIN:STANDARD
TZOFFSETFROM:+0000
TZOFFSETTO:+0000
TZNAME:UTC
DTSTART:20240101T000000
END:STANDARD
END:VTIMEZONE
BEGIN:VEVENT
DTSTART;TZID=UTC:20251207T190000
DTEND;TZID=UTC:20251207T230000
DTSTAMP:20260419T214038
CREATED:20250414T155549Z
LAST-MODIFIED:20250912T161116Z
UID:3175-1765134000-1765148400@looseendsofficial.com
SUMMARY:Blues Kitchen\, Manchester
DESCRIPTION:
URL:https://looseendsofficial.com/event/blues-kitchen-manchester-2
LOCATION:Blues Kitchen\, 13 Quay Street\, Manchester\, M3 3HN\, United Kingdom
END:VEVENT
BEGIN:VEVENT
DTSTART;TZID=UTC:20251219T190000
DTEND;TZID=UTC:20251219T233000
DTSTAMP:20260419T214038
CREATED:20251006T115849Z
LAST-MODIFIED:20251006T115849Z
UID:3188-1766170800-1766187000@looseendsofficial.com
SUMMARY:O2 Bristol Academy
DESCRIPTION:
URL:https://looseendsofficial.com/event/o2-bristol-academy
LOCATION:O2 Bristol Academy\, Frogmore Street\, Bristol\, BS1 5NA\, United Kingdom
END:VEVENT
BEGIN:VEVENT
DTSTART;TZID=UTC:20251228T190000
DTEND;TZID=UTC:20251228T233000
DTSTAMP:20260419T214038
CREATED:20250912T155842Z
LAST-MODIFIED:20250912T155842Z
UID:3182-1766948400-1766964600@looseendsofficial.com
SUMMARY:ANTHEMS XMAS PARTY\, LOOSE ENDS & TEN CITY
DESCRIPTION:
URL:https://looseendsofficial.com/event/anthems-xmas-party-loose-ends-ten-city
LOCATION:KOKO\, CAMDEN HIGH STREET\, 1A Camden High Street\, London\, NW1 7RE\, United Kingdom
END:VEVENT
END:VCALENDAR