BEGIN:VCALENDAR
VERSION:2.0
PRODID:-// - ECPv6.15.20//NONSGML v1.0//EN
CALSCALE:GREGORIAN
METHOD:PUBLISH
X-ORIGINAL-URL:https://looseendsofficial.com
X-WR-CALDESC:Events for 
REFRESH-INTERVAL;VALUE=DURATION:PT1H
X-Robots-Tag:noindex
X-PUBLISHED-TTL:PT1H
BEGIN:VTIMEZONE
TZID:UTC
BEGIN:STANDARD
TZOFFSETFROM:+0000
TZOFFSETTO:+0000
TZNAME:UTC
DTSTART:20250101T000000
END:STANDARD
END:VTIMEZONE
BEGIN:VEVENT
DTSTART;TZID=UTC:20261115T190000
DTEND;TZID=UTC:20261115T230000
DTSTAMP:20260423T150221
CREATED:20260417T165403Z
LAST-MODIFIED:20260417T165403Z
UID:3228-1794769200-1794783600@looseendsofficial.com
SUMMARY:Blues Kitchen\, Manchester
DESCRIPTION:
URL:https://looseendsofficial.com/event/blues-kitchen-manchester-3
LOCATION:Blues Kitchen\, 13 Quay Street\, Manchester\, M3 3HN\, United Kingdom
END:VEVENT
END:VCALENDAR