BEGIN:VCALENDAR
VERSION:2.0
PRODID:-// - ECPv6.15.20//NONSGML v1.0//EN
CALSCALE:GREGORIAN
METHOD:PUBLISH
X-ORIGINAL-URL:https://looseendsofficial.com
X-WR-CALDESC:Events for 
REFRESH-INTERVAL;VALUE=DURATION:PT1H
X-Robots-Tag:noindex
X-PUBLISHED-TTL:PT1H
BEGIN:VTIMEZONE
TZID:UTC
BEGIN:STANDARD
TZOFFSETFROM:+0000
TZOFFSETTO:+0000
TZNAME:UTC
DTSTART:20250101T000000
END:STANDARD
END:VTIMEZONE
BEGIN:VEVENT
DTSTART;TZID=UTC:20260611T190000
DTEND;TZID=UTC:20260611T233000
DTSTAMP:20260421T142525
CREATED:20260126T143415Z
LAST-MODIFIED:20260216T111034Z
UID:3219-1781204400-1781220600@looseendsofficial.com
SUMMARY:Jam House\, Birmingham
DESCRIPTION:
URL:https://looseendsofficial.com/event/jam-house-birmingham-2
LOCATION:Jam House Birmigham\, 3-5 St Paul's Square\, Birmingham\, B3 1QU\, United Kingdom
END:VEVENT
END:VCALENDAR